BEGIN:VCALENDAR
PRODID:-//www.mt.org.nz//EN
VERSION:2.0
METHOD:PUBLISH
BEGIN:VEVENT
DTSTART;TZID=America/New_York:20171115T090000
DTEND;TZID=America/New_York:20171115T130000
URL:http://www.mt.org.nz/events/lead-professional-and-network-training-2/
SUMMARY:Lead Professional and Network Training
LOCATION:Tui Room, 42 Grey Street, Gisborne 
DESCRIPTION:This two day workshop is a follow on from Orientation, supporting participants to develop a depth of understanding of Te Pa Harakeke, our way of working in Tairawhiti.  For more information download the poster.
END:VEVENT
END:VCALENDAR